BEGIN:VCALENDAR
VERSION:2.0
PRODID:-//eventon.com NONSGML v1.0//EN
CALSCALE:GREGORIAN
METHOD:PUBLISH
BEGIN:VEVENT
UID:69ebf78c8a152
DTSTAMP:20260424T230652Z
DTSTART:20251205T085000Z
DTEND:20251205T090000Z
LOCATION:
SUMMARY:Closing Remarks for Day 2
DESCRIPTION:Closing Remarks for Day 2\nhttps://cdoiq-japan.org/events/closi
 ng-remarks-for-day-2/
URL:https://cdoiq-japan.org/events/closing-remarks-for-day-2/
END:VEVENT
END:VCALENDAR