BEGIN:VCALENDAR
VERSION:2.0
PRODID:-//eventon.com NONSGML v1.0//EN
CALSCALE:GREGORIAN
METHOD:PUBLISH
BEGIN:VEVENT
UID:69ebf84568870
DTSTAMP:20260424T230957Z
DTSTART:20251204T090000Z
DTEND:20251204T103000Z
LOCATION:
SUMMARY:Reception
DESCRIPTION:Reception\nhttps://cdoiq-japan.org/events/reception/
URL:https://cdoiq-japan.org/events/reception/
END:VEVENT
END:VCALENDAR