BEGIN:VCALENDAR
VERSION:2.0
PRODID:-//eventon.com NONSGML v1.0//EN
CALSCALE:GREGORIAN
METHOD:PUBLISH
BEGIN:VEVENT
UID:69ebf78d07d70
DTSTAMP:20260424T230653Z
DTSTART:20251204T084000Z
DTEND:20251204T090000Z
LOCATION:
SUMMARY:Break & Move
DESCRIPTION:Break & Move\nhttps://cdoiq-japan.org/events/break-move/
URL:https://cdoiq-japan.org/events/break-move/
END:VEVENT
END:VCALENDAR