BEGIN:VCALENDAR
VERSION:2.0
PRODID:-//eventon.com NONSGML v1.0//EN
CALSCALE:GREGORIAN
METHOD:PUBLISH
BEGIN:VEVENT
UID:69ebf7bb1f32a
DTSTAMP:20260424T230739Z
DTSTART:20251204T080000Z
DTEND:20251204T084000Z
LOCATION:
SUMMARY:Panel Discussion
DESCRIPTION:Panel Discussion\nhttps://cdoiq-japan.org/events/panel-discussi
 on/
URL:https://cdoiq-japan.org/events/panel-discussion/
END:VEVENT
END:VCALENDAR