BEGIN:VCALENDAR
VERSION:2.0
PRODID:-//eventon.com NONSGML v1.0//EN
CALSCALE:GREGORIAN
METHOD:PUBLISH
BEGIN:VEVENT
UID:69ebf78d7ef23
DTSTAMP:20260424T230653Z
DTSTART:20251204T075000Z
DTEND:20251204T080000Z
LOCATION:
SUMMARY:Break
DESCRIPTION:Break\nhttps://cdoiq-japan.org/events/break/
URL:https://cdoiq-japan.org/events/break/
END:VEVENT
END:VCALENDAR