BEGIN:VCALENDAR
VERSION:2.0
PRODID:-//eventon.com NONSGML v1.0//EN
CALSCALE:GREGORIAN
METHOD:PUBLISH
BEGIN:VEVENT
UID:69ebf893139e7
DTSTAMP:20260424T231115Z
DTSTART:20251204T072000Z
DTEND:20251204T075000Z
LOCATION:
SUMMARY:Special Lecture: TBD
DESCRIPTION:Special Lecture: TBD\nhttps://cdoiq-japan.org/events/special-le
 cture-tbd/
URL:https://cdoiq-japan.org/events/special-lecture-tbd/
END:VEVENT
END:VCALENDAR