BEGIN:VCALENDAR
VERSION:2.0
PRODID:-//eventon.com NONSGML v1.0//EN
CALSCALE:GREGORIAN
METHOD:PUBLISH
BEGIN:VEVENT
UID:69ebf882ec9ce
DTSTAMP:20260424T231058Z
DTSTART:20251204T064000Z
DTEND:20251204T072000Z
LOCATION:
SUMMARY:Special Lecture: The creation of a new ROBOT＆AI era
DESCRIPTION:Special Lecture: The creation of a new ROBOT＆AI era\nhttps://
 cdoiq-japan.org/events/special-lecture-creativity-in-the-age-of-robots-and-
 ai/
URL:https://cdoiq-japan.org/events/special-lecture-creativity-in-the-age-of-robots-and-ai/
END:VEVENT
END:VCALENDAR