BEGIN:VCALENDAR
VERSION:2.0
PRODID:-//eventon.com NONSGML v1.0//EN
CALSCALE:GREGORIAN
METHOD:PUBLISH
BEGIN:VEVENT
UID:69ebf881e87bc
DTSTAMP:20260424T231057Z
DTSTART:20251204T062000Z
DTEND:20251204T064000Z
LOCATION:
SUMMARY:Special Guest Remarks (Video Message)
DESCRIPTION:Special Guest Remarks (Video Message)\nhttps://cdoiq-japan.org/
 events/special-guest-remarks-video-message/
URL:https://cdoiq-japan.org/events/special-guest-remarks-video-message/
END:VEVENT
END:VCALENDAR