BEGIN:VCALENDAR
VERSION:2.0
PRODID:-//eventon.com NONSGML v1.0//EN
CALSCALE:GREGORIAN
METHOD:PUBLISH
BEGIN:VEVENT
UID:69ebf89297cdd
DTSTAMP:20260424T231114Z
DTSTART:20251204T060000Z
DTEND:20251204T062000Z
LOCATION:
SUMMARY:Opening Ceremony
DESCRIPTION:Opening Ceremony\nhttps://cdoiq-japan.org/events/opening-ceremo
 ny/
URL:https://cdoiq-japan.org/events/opening-ceremony/
END:VEVENT
END:VCALENDAR