BEGIN:VCALENDAR
VERSION:2.0
PRODID:-//eventon.com NONSGML v1.0//EN
CALSCALE:GREGORIAN
METHOD:PUBLISH
BEGIN:VEVENT
UID:69ebf894149c2
DTSTAMP:20260424T231116Z
DTSTART:20251204T050000Z
DTEND:20251204T060000Z
LOCATION:
SUMMARY:Registration Opens
DESCRIPTION:Registration Opens\nhttps://cdoiq-japan.org/events/registration
 -opens/
URL:https://cdoiq-japan.org/events/registration-opens/
END:VEVENT
END:VCALENDAR