BEGIN:VCALENDAR
VERSION:2.0
PRODID:-//eventon.com NONSGML v1.0//EN
CALSCALE:GREGORIAN
METHOD:PUBLISH
BEGIN:VEVENT
UID:69ebf826acffe
DTSTAMP:20260424T230926Z
DTSTART:20251205T080000Z
DTEND:20251205T084000Z
LOCATION:
SUMMARY:Track 3: AI and Data
DESCRIPTION:Track 3: AI and Data\nhttps://cdoiq-japan.org/events/track-3-ai
 -and-data/
URL:https://cdoiq-japan.org/events/track-3-ai-and-data/
END:VEVENT
END:VCALENDAR