BEGIN:VCALENDAR
VERSION:2.0
PRODID:-//eventon.com NONSGML v1.0//EN
CALSCALE:GREGORIAN
METHOD:PUBLISH
BEGIN:VEVENT
UID:69ebf84667716
DTSTAMP:20260424T230958Z
DTSTART:20251205T080000Z
DTEND:20251205T084000Z
LOCATION:
SUMMARY:Track 2: DDAX or Die
DESCRIPTION:Track 2: DDAX or Die\nhttps://cdoiq-japan.org/events/track-2-dd
 ax-or-die/
URL:https://cdoiq-japan.org/events/track-2-ddax-or-die/
END:VEVENT
END:VCALENDAR