BEGIN:VCALENDAR
VERSION:2.0
PRODID:-//eventon.com NONSGML v1.0//EN
CALSCALE:GREGORIAN
METHOD:PUBLISH
BEGIN:VEVENT
UID:69ebf78e05cf9
DTSTAMP:20260424T230654Z
DTSTART:20251205T080000Z
DTEND:20251205T084000Z
LOCATION:
SUMMARY:Track 1: Data Strategy with Subjectively Constructed Beings: A Case of Emotion Recognition AI Research and Development
DESCRIPTION:Track 1: Data Strategy with Subjectively Constructed Beings: A 
 Case of Emotion Recognition AI Research and Development\nhttps://cdoiq-japa
 n.org/events/track-1-tbd-2/
URL:https://cdoiq-japan.org/events/track-1-tbd-2/
END:VEVENT
END:VCALENDAR