BEGIN:VCALENDAR
VERSION:2.0
PRODID:-//eventon.com NONSGML v1.0//EN
CALSCALE:GREGORIAN
METHOD:PUBLISH
BEGIN:VEVENT
UID:69ebf893917aa
DTSTAMP:20260424T231115Z
DTSTART:20251205T075000Z
DTEND:20251205T080000Z
LOCATION:
SUMMARY:Break and Networking
DESCRIPTION:Break and Networking\nhttps://cdoiq-japan.org/events/break-and-
 networking-5/
URL:https://cdoiq-japan.org/events/break-and-networking-5/
END:VEVENT
END:VCALENDAR