BEGIN:VCALENDAR
VERSION:2.0
PRODID:-//eventon.com NONSGML v1.0//EN
CALSCALE:GREGORIAN
METHOD:PUBLISH
BEGIN:VEVENT
UID:69ebf8201c03a
DTSTAMP:20260424T230920Z
DTSTART:20251205T071000Z
DTEND:20251205T075000Z
LOCATION:
SUMMARY:Track 3: Data Monetization and Valuation
DESCRIPTION:Track 3: Data Monetization and Valuation\nhttps://cdoiq-japan.o
 rg/events/track-3-data-monetization-and-valuation/
URL:https://cdoiq-japan.org/events/track-3-data-monetization-and-valuation/
END:VEVENT
END:VCALENDAR