BEGIN:VCALENDAR
VERSION:2.0
PRODID:-//eventon.com NONSGML v1.0//EN
CALSCALE:GREGORIAN
METHOD:PUBLISH
BEGIN:VEVENT
UID:69ebf827784d3
DTSTAMP:20260424T230927Z
DTSTART:20251205T071000Z
DTEND:20251205T075000Z
LOCATION:
SUMMARY:Track 2: Data Quality as the Foundation of Trust — Practical Data Governance at TEIKOKU DATABANK —
DESCRIPTION:Track 2: Data Quality as the Foundation of Trust — Practical 
 Data Governance at TEIKOKU DATABANK —\nhttps://cdoiq-japan.org/events/tra
 ck-2-tbd-3/
URL:https://cdoiq-japan.org/events/track-2-tbd-3/
END:VEVENT
END:VCALENDAR