BEGIN:VCALENDAR
VERSION:2.0
PRODID:-//eventon.com NONSGML v1.0//EN
CALSCALE:GREGORIAN
METHOD:PUBLISH
BEGIN:VEVENT
UID:69ebf820b22de
DTSTAMP:20260424T230920Z
DTSTART:20251205T071000Z
DTEND:20251205T075000Z
LOCATION:
SUMMARY:Track 1: CoE governance for strategic use of AI
DESCRIPTION:Track 1: CoE governance for strategic use of AI\nhttps://cdoiq-
 japan.org/events/track-1-coe-governance-for-strategic-use-of-ai/
URL:https://cdoiq-japan.org/events/track-1-coe-governance-for-strategic-use-of-ai/
END:VEVENT
END:VCALENDAR