BEGIN:VCALENDAR
VERSION:2.0
PRODID:-//eventon.com NONSGML v1.0//EN
CALSCALE:GREGORIAN
METHOD:PUBLISH
BEGIN:VEVENT
UID:69ebf844aa5c5
DTSTAMP:20260424T230956Z
DTSTART:20251205T070000Z
DTEND:20251205T071000Z
LOCATION:
SUMMARY:Break and Networking
DESCRIPTION:Break and Networking\nhttps://cdoiq-japan.org/events/break-and-
 networking-4/
URL:https://cdoiq-japan.org/events/break-and-networking-4/
END:VEVENT
END:VCALENDAR