BEGIN:VCALENDAR
VERSION:2.0
PRODID:-//eventon.com NONSGML v1.0//EN
CALSCALE:GREGORIAN
METHOD:PUBLISH
BEGIN:VEVENT
UID:69ebf7e8d7b51
DTSTAMP:20260424T230824Z
DTSTART:20251205T062000Z
DTEND:20251205T070000Z
LOCATION:
SUMMARY:Track 3: Data Governance
DESCRIPTION:Track 3: Data Governance\nhttps://cdoiq-japan.org/events/track-
 3-data-governance/
URL:https://cdoiq-japan.org/events/track-3-data-governance/
END:VEVENT
END:VCALENDAR