BEGIN:VCALENDAR
VERSION:2.0
PRODID:-//eventon.com NONSGML v1.0//EN
CALSCALE:GREGORIAN
METHOD:PUBLISH
BEGIN:VEVENT
UID:69ebf7bc82c79
DTSTAMP:20260424T230740Z
DTSTART:20251205T062000Z
DTEND:20251205T070000Z
LOCATION:
SUMMARY:Track 2: Translating Academic AI Expertise into Industrial Innovation
DESCRIPTION:Track 2: Translating Academic AI Expertise into Industrial Inno
 vation\nhttps://cdoiq-japan.org/events/track-2-translating-academic-ai-expe
 rtise-into-industrial-innovation/
URL:https://cdoiq-japan.org/events/track-2-translating-academic-ai-expertise-into-industrial-innovation/
END:VEVENT
END:VCALENDAR