BEGIN:VCALENDAR
VERSION:2.0
PRODID:-//eventon.com NONSGML v1.0//EN
CALSCALE:GREGORIAN
METHOD:PUBLISH
BEGIN:VEVENT
UID:69ebf89239931
DTSTAMP:20260424T231114Z
DTSTART:20251205T061000Z
DTEND:20251205T062000Z
LOCATION:
SUMMARY:Break and Networking
DESCRIPTION:Break and Networking\nhttps://cdoiq-japan.org/events/break-and-
 networking-3/
URL:https://cdoiq-japan.org/events/break-and-networking-3/
END:VEVENT
END:VCALENDAR