BEGIN:VCALENDAR
VERSION:2.0
PRODID:-//eventon.com NONSGML v1.0//EN
CALSCALE:GREGORIAN
METHOD:PUBLISH
BEGIN:VEVENT
UID:69ebf7bb5551a
DTSTAMP:20260424T230739Z
DTSTART:20251205T062000Z
DTEND:20251205T070000Z
LOCATION:
SUMMARY:Track 1: What Every CDO Should Know: The Global Standard for IT Investment Management That Accelerates Digital Transformation — What Is Technology Business Management (TBM)?
DESCRIPTION:Track 1: What Every CDO Should Know: The Global Standard for IT
  Investment Management That Accelerates Digital Transformation — What Is 
 Technology Business Management (TBM)?\nhttps://cdoiq-japan.org/events/track
 -1-tbd/
URL:https://cdoiq-japan.org/events/track-1-tbd/
END:VEVENT
END:VCALENDAR