BEGIN:VCALENDAR
VERSION:2.0
PRODID:-//eventon.com NONSGML v1.0//EN
CALSCALE:GREGORIAN
METHOD:PUBLISH
BEGIN:VEVENT
UID:69ebf7e9829e0
DTSTAMP:20260424T230825Z
DTSTART:20251205T053000Z
DTEND:20251205T061000Z
LOCATION:
SUMMARY:Track 3: MDM & Data Curation
DESCRIPTION:Track 3: MDM & Data Curation\nhttps://cdoiq-japan.org/events/tr
 ack-3-mdm-data-curation/
URL:https://cdoiq-japan.org/events/track-3-mdm-data-curation/
END:VEVENT
END:VCALENDAR