BEGIN:VCALENDAR
VERSION:2.0
PRODID:-//eventon.com NONSGML v1.0//EN
CALSCALE:GREGORIAN
METHOD:PUBLISH
BEGIN:VEVENT
UID:69ebf8213991e
DTSTAMP:20260424T230921Z
DTSTART:20251205T053000Z
DTEND:20251205T061000Z
LOCATION:
SUMMARY:Track 2: Spin the Flywheel! ~ The Virtuous Cycle of Democratization and Utilization Driven by AI Platforms ~
DESCRIPTION:Track 2: Spin the Flywheel! ~ The Virtuous Cycle of Democratiza
 tion and Utilization Driven by AI Platforms ~\nhttps://cdoiq-japan.org/even
 ts/track-2-tbd-2/
URL:https://cdoiq-japan.org/events/track-2-tbd-2/
END:VEVENT
END:VCALENDAR