BEGIN:VCALENDAR
VERSION:2.0
PRODID:-//eventon.com NONSGML v1.0//EN
CALSCALE:GREGORIAN
METHOD:PUBLISH
BEGIN:VEVENT
UID:69ebf7e9daf10
DTSTAMP:20260424T230825Z
DTSTART:20251205T053000Z
DTEND:20251205T061000Z
LOCATION:
SUMMARY:Track 1: Scaling AI Impact: Technical and Organizational Strategies for Scaling AI
DESCRIPTION:Track 1: Scaling AI Impact: Technical and Organizational Strate
 gies for Scaling AI\nhttps://cdoiq-japan.org/events/track-1-scaling-ai-impa
 ct-technical-and-organizational-strategies-for-scaling-ai/
URL:https://cdoiq-japan.org/events/track-1-scaling-ai-impact-technical-and-organizational-strategies-for-scaling-ai/
END:VEVENT
END:VCALENDAR