BEGIN:VCALENDAR
VERSION:2.0
PRODID:-//eventon.com NONSGML v1.0//EN
CALSCALE:GREGORIAN
METHOD:PUBLISH
BEGIN:VEVENT
UID:69ebf8826aa4f
DTSTAMP:20260424T231058Z
DTSTART:20251205T050000Z
DTEND:20251205T053000Z
LOCATION:
SUMMARY:Networking
DESCRIPTION:Networking\nhttps://cdoiq-japan.org/events/networking/
URL:https://cdoiq-japan.org/events/networking/
END:VEVENT
END:VCALENDAR