BEGIN:VCALENDAR
VERSION:2.0
PRODID:-//eventon.com NONSGML v1.0//EN
CALSCALE:GREGORIAN
METHOD:PUBLISH
BEGIN:VEVENT
UID:69ebf7bc0d434
DTSTAMP:20260424T230740Z
DTSTART:20251205T040000Z
DTEND:20251205T050000Z
LOCATION:
SUMMARY:Keynote Session
DESCRIPTION:Keynote Session\nhttps://cdoiq-japan.org/events/keynote-session
 /
URL:https://cdoiq-japan.org/events/keynote-session/
END:VEVENT
END:VCALENDAR