BEGIN:VCALENDAR
VERSION:2.0
PRODID:-//eventon.com NONSGML v1.0//EN
CALSCALE:GREGORIAN
METHOD:PUBLISH
BEGIN:VEVENT
UID:69ebf82054937
DTSTAMP:20260424T230920Z
DTSTART:20251205T023000Z
DTEND:20251205T040000Z
LOCATION:
SUMMARY:Lunch and Networking
DESCRIPTION:Lunch and Networking\nhttps://cdoiq-japan.org/events/lunch-and-
 networking/
URL:https://cdoiq-japan.org/events/lunch-and-networking/
END:VEVENT
END:VCALENDAR