BEGIN:VCALENDAR
VERSION:2.0
PRODID:-//eventon.com NONSGML v1.0//EN
CALSCALE:GREGORIAN
METHOD:PUBLISH
BEGIN:VEVENT
UID:69ebf7e82cdec
DTSTAMP:20260424T230824Z
DTSTART:20251205T015000Z
DTEND:20251205T023000Z
LOCATION:
SUMMARY:Track 3: Data Quality
DESCRIPTION:Track 3: Data Quality\nhttps://cdoiq-japan.org/events/track-3-d
 ata-quality/
URL:https://cdoiq-japan.org/events/track-3-data-quality/
END:VEVENT
END:VCALENDAR