BEGIN:VCALENDAR
VERSION:2.0
PRODID:-//eventon.com NONSGML v1.0//EN
CALSCALE:GREGORIAN
METHOD:PUBLISH
BEGIN:VEVENT
UID:69ebf8286c410
DTSTAMP:20260424T230928Z
DTSTART:20251205T015000Z
DTEND:20251205T023000Z
LOCATION:
SUMMARY:Track 2: Transformation from Industry 3.0 to 4.0: Data-Driven Society and Business Management
DESCRIPTION:Track 2: Transformation from Industry 3.0 to 4.0: Data-Driven S
 ociety and Business Management\nhttps://cdoiq-japan.org/events/track-2-tran
 sformation-from-industry-3-0-to-4-0-data-driven-society-and-business-manage
 ment/
URL:https://cdoiq-japan.org/events/track-2-transformation-from-industry-3-0-to-4-0-data-driven-society-and-business-management/
END:VEVENT
END:VCALENDAR