BEGIN:VCALENDAR
VERSION:2.0
PRODID:-//eventon.com NONSGML v1.0//EN
CALSCALE:GREGORIAN
METHOD:PUBLISH
BEGIN:VEVENT
UID:69ebf88375534
DTSTAMP:20260424T231059Z
DTSTART:20251205T015000Z
DTEND:20251205T023000Z
LOCATION:
SUMMARY:Track 1: Exploring Fragments of the Future: JT’s Journey to Deliver Sustainable Enterprise Growth with Data and AI
DESCRIPTION:Track 1: Exploring Fragments of the Future: JT’s Journey to D
 eliver Sustainable Enterprise Growth with Data and AI\nhttps://cdoiq-japan.
 org/events/track-1-exploring-fragments-of-the-future-jts-journey-to-deliver
 -sustainable-enterprise-growth-with-data-and-ai/
URL:https://cdoiq-japan.org/events/track-1-exploring-fragments-of-the-future-jts-journey-to-deliver-sustainable-enterprise-growth-with-data-and-ai/
END:VEVENT
END:VCALENDAR