BEGIN:VCALENDAR
VERSION:2.0
PRODID:-//eventon.com NONSGML v1.0//EN
CALSCALE:GREGORIAN
METHOD:PUBLISH
BEGIN:VEVENT
UID:69ebf78e81b41
DTSTAMP:20260424T230654Z
DTSTART:20251205T014000Z
DTEND:20251205T015000Z
LOCATION:
SUMMARY:Break and Networking
DESCRIPTION:Break and Networking\nhttps://cdoiq-japan.org/events/break-and-
 networking-2/
URL:https://cdoiq-japan.org/events/break-and-networking-2/
END:VEVENT
END:VCALENDAR