BEGIN:VCALENDAR
VERSION:2.0
PRODID:-//eventon.com NONSGML v1.0//EN
CALSCALE:GREGORIAN
METHOD:PUBLISH
BEGIN:VEVENT
UID:69ebf821b0324
DTSTAMP:20260424T230921Z
DTSTART:20251205T010000Z
DTEND:20251205T014000Z
LOCATION:
SUMMARY:Track 3: Data Strategy
DESCRIPTION:Track 3: Data Strategy\nhttps://cdoiq-japan.org/events/track-3-
 data-strategy/
URL:https://cdoiq-japan.org/events/track-3-data-strategy/
END:VEVENT
END:VCALENDAR