BEGIN:VCALENDAR
VERSION:2.0
PRODID:-//eventon.com NONSGML v1.0//EN
CALSCALE:GREGORIAN
METHOD:PUBLISH
BEGIN:VEVENT
UID:69ebf845e37a4
DTSTAMP:20260424T230957Z
DTSTART:20251205T010000Z
DTEND:20251205T014000Z
LOCATION:
SUMMARY:Track 2: Hi-SIA: A Delivery Optimization App Born from Real Logistics Challenges — From University Research to Practical Implementation
DESCRIPTION:Track 2: Hi-SIA: A Delivery Optimization App Born from Real Log
 istics Challenges — From University Research to Practical Implementation\
 nhttps://cdoiq-japan.org/events/track-2-tbd/
URL:https://cdoiq-japan.org/events/track-2-tbd/
END:VEVENT
END:VCALENDAR