BEGIN:VCALENDAR
VERSION:2.0
PRODID:-//eventon.com NONSGML v1.0//EN
CALSCALE:GREGORIAN
METHOD:PUBLISH
BEGIN:VEVENT
UID:69ebf826eac5a
DTSTAMP:20260424T230926Z
DTSTART:20251205T010000Z
DTEND:20251205T014000Z
LOCATION:
SUMMARY:Track 1: Pioneering the Future of Japanese Enterprises: Strategic Approaches to Leveraging AI and Data
DESCRIPTION:Track 1: Pioneering the Future of Japanese Enterprises: Strateg
 ic Approaches to Leveraging AI and Data\nhttps://cdoiq-japan.org/events/tra
 ck-1-pioneering-the-future-of-japanese-enterprises-strategic-approaches-to-
 leveraging-ai-and-data/
URL:https://cdoiq-japan.org/events/track-1-pioneering-the-future-of-japanese-enterprises-strategic-approaches-to-leveraging-ai-and-data/
END:VEVENT
END:VCALENDAR