BEGIN:VCALENDAR
VERSION:2.0
PRODID:-//eventon.com NONSGML v1.0//EN
CALSCALE:GREGORIAN
METHOD:PUBLISH
BEGIN:VEVENT
UID:69ebf827e5440
DTSTAMP:20260424T230927Z
DTSTART:20251205T000000Z
DTEND:20251205T004500Z
LOCATION:
SUMMARY:Plenary Session
DESCRIPTION:Plenary Session\nhttps://cdoiq-japan.org/events/plenary-session
 /
URL:https://cdoiq-japan.org/events/plenary-session/
END:VEVENT
END:VCALENDAR