BEGIN:VCALENDAR
VERSION:2.0
PRODID:-//eventon.com NONSGML v1.0//EN
CALSCALE:GREGORIAN
METHOD:PUBLISH
BEGIN:VEVENT
UID:69ebf881a62e6
DTSTAMP:20260424T231057Z
DTSTART:20251205T004500Z
DTEND:20251205T010000Z
LOCATION:
SUMMARY:Break and Networking
DESCRIPTION:Break and Networking\nhttps://cdoiq-japan.org/events/break-and-
 networking/
URL:https://cdoiq-japan.org/events/break-and-networking/
END:VEVENT
END:VCALENDAR