BEGIN:VCALENDAR
VERSION:2.0
PRODID:-//eventon.com NONSGML v1.0//EN
CALSCALE:GREGORIAN
METHOD:PUBLISH
BEGIN:VEVENT
UID:69ebf7e863488
DTSTAMP:20260424T230824Z
DTSTART:20251204T233000Z
DTEND:20251205T000000Z
LOCATION:
SUMMARY:Welcome and Opening Remarks
DESCRIPTION:Welcome and Opening Remarks\nhttps://cdoiq-japan.org/events/wel
 come-and-opening-remarks/
URL:https://cdoiq-japan.org/events/welcome-and-opening-remarks/
END:VEVENT
END:VCALENDAR