BEGIN:VCALENDAR
VERSION:2.0
PRODID:-//eventon.com NONSGML v1.0//EN
CALSCALE:GREGORIAN
METHOD:PUBLISH
BEGIN:VEVENT
UID:69ebf844e0de9
DTSTAMP:20260424T230956Z
DTSTART:20251204T230000Z
DTEND:20251204T233000Z
LOCATION:
SUMMARY:Breakfast and Registration
DESCRIPTION:Breakfast and Registration\nhttps://cdoiq-japan.org/events/brea
 kfast-and-registration/
URL:https://cdoiq-japan.org/events/breakfast-and-registration/
END:VEVENT
END:VCALENDAR